BEGIN:VCALENDAR
VERSION:2.0
PRODID:-//Market Cross Brewery - ECPv6.15.13//NONSGML v1.0//EN
CALSCALE:GREGORIAN
METHOD:PUBLISH
X-WR-CALNAME:Market Cross Brewery
X-ORIGINAL-URL:https://marketcrosspub.com
X-WR-CALDESC:Events for Market Cross Brewery
REFRESH-INTERVAL;VALUE=DURATION:PT1H
X-Robots-Tag:noindex
X-PUBLISHED-TTL:PT1H
BEGIN:VTIMEZONE
TZID:America/New_York
BEGIN:DAYLIGHT
TZOFFSETFROM:-0500
TZOFFSETTO:-0400
TZNAME:EDT
DTSTART:20240310T070000
END:DAYLIGHT
BEGIN:STANDARD
TZOFFSETFROM:-0400
TZOFFSETTO:-0500
TZNAME:EST
DTSTART:20241103T060000
END:STANDARD
BEGIN:DAYLIGHT
TZOFFSETFROM:-0500
TZOFFSETTO:-0400
TZNAME:EDT
DTSTART:20250309T070000
END:DAYLIGHT
BEGIN:STANDARD
TZOFFSETFROM:-0400
TZOFFSETTO:-0500
TZNAME:EST
DTSTART:20251102T060000
END:STANDARD
BEGIN:DAYLIGHT
TZOFFSETFROM:-0500
TZOFFSETTO:-0400
TZNAME:EDT
DTSTART:20260308T070000
END:DAYLIGHT
BEGIN:STANDARD
TZOFFSETFROM:-0400
TZOFFSETTO:-0500
TZNAME:EST
DTSTART:20261101T060000
END:STANDARD
END:VTIMEZONE
BEGIN:VEVENT
DTSTART;TZID=America/New_York:20250710T180000
DTEND;TZID=America/New_York:20250710T200000
DTSTAMP:20260423T175955
CREATED:20250409T165015Z
LAST-MODIFIED:20250710T165034Z
UID:7877-1752170400-1752177600@marketcrosspub.com
SUMMARY:Magical Thursdays with Kyle Purnell
DESCRIPTION:Your Thursdays just got magical!! \nJoin us at the pub for some great food\, drinks and Magician Kyle Purnell will be roaming from table to table wowing you with some extraordinary table magic from 6-8pm – every Thursday! \nBring your family! Bring your friends!
URL:https://marketcrosspub.com/event/magical-thursdays-with-kyle-purnell-25/
LOCATION:113 N Hanover St\, Carlisle\, PA\, United States\, Pennsylvania 17013
ATTACH;FMTTYPE=image/jpeg:https://marketcrosspub.com/wp-content/uploads/2025/04/7852_image_505081942_1393781208774536_1334618328657037744_n-60.jpg
END:VEVENT
BEGIN:VEVENT
DTSTART;TZID=America/New_York:20250710T170000
DTEND;TZID=America/New_York:20250710T170000
DTSTAMP:20260423T175955
CREATED:20250627T044230Z
LAST-MODIFIED:20250710T164827Z
UID:9379-1752166800-1752166800@marketcrosspub.com
SUMMARY:Ever Grain Keep The Pint Night
DESCRIPTION:Don’t miss our next Keep The Pint Night at Market Cross Pub featuring Ever Grain Brewing Co. on Thursday\, July 10th beginning at 5pm! Stop in and get a pint of Ever Grain and you get to KEEP THE GLASS while supplies last.
URL:https://marketcrosspub.com/event/ever-grain-keep-the-pint-night/
LOCATION:113 N Hanover St\, Carlisle\, PA\, United States\, Pennsylvania 17013
ATTACH;FMTTYPE=image/jpeg:https://marketcrosspub.com/wp-content/uploads/2025/06/9379_image_512749973_1412124830273507_6325427914568712367_n-714.jpg
END:VEVENT
BEGIN:VEVENT
DTSTART;TZID=America/New_York:20250709T180000
DTEND;TZID=America/New_York:20250709T180000
DTSTAMP:20260423T175955
CREATED:20250409T164739Z
LAST-MODIFIED:20250709T164808Z
UID:7801-1752084000-1752084000@marketcrosspub.com
SUMMARY:Disney Karaoke Night
DESCRIPTION:Bibbidi-Bobbidi-Boo! Get ready to let it go and sing your heart out at Market Cross Pub on Wednesday\, July 9th\, 2025\, from 6-8 PM for a magical Disney Karaoke Night! \nJoin us for two enchanting hours where you can become the star of your own Disney fairytale. Belt out your favorite tunes from under the sea to a whole new world! \nAnd as if that wasn’t enchanting enough\, it’s also wing night! You’ll get $2 off an order of ten super bone-in wings. It’s the perfect way to fuel up your vocal cords and make the night even more hakuna matata. \nSo\, gather your ohana\, dust off your singing voice\, and prepare for a night of Disney magic\, delicious wings\, and unforgettable fun at Market Cross Pub! Don’t be late\, or you might miss out on this tale as old as time!
URL:https://marketcrosspub.com/event/disney-karaoke-night-2/
LOCATION:113 N Hanover St\, Carlisle\, PA\, United States\, Pennsylvania 17013
ATTACH;FMTTYPE=image/jpeg:https://marketcrosspub.com/wp-content/uploads/2025/04/7801_image_505263948_1393784302107560_5984525003987046463_n.jpg
END:VEVENT
BEGIN:VEVENT
DTSTART;TZID=America/New_York:20250707T180000
DTEND;TZID=America/New_York:20250707T200000
DTSTAMP:20260423T175955
CREATED:20250409T164920Z
LAST-MODIFIED:20250707T164953Z
UID:7839-1751911200-1751918400@marketcrosspub.com
SUMMARY:Pub Trivia with Joe!
DESCRIPTION:Join us every Monday at 6pm for Trivia with Joe! A wide variety of trivia\, picture rounds\, music and puzzling questions to entertain guests of all ages. First come first serve. Enjoy dinner and drinks while you play!
URL:https://marketcrosspub.com/event/pub-trivia-with-joe-26/
LOCATION:113 N Hanover St\, Carlisle\, PA\, United States\, Pennsylvania 17013
ATTACH;FMTTYPE=image/jpeg:https://marketcrosspub.com/wp-content/uploads/2025/04/7813_image_505400332_1393783098774347_8384181544680035475_n-54.jpg
END:VEVENT
BEGIN:VEVENT
DTSTART;TZID=America/New_York:20250704T120000
DTEND;TZID=America/New_York:20250704T120000
DTSTAMP:20260423T175955
CREATED:20250627T092640Z
LAST-MODIFIED:20250704T071614Z
UID:9497-1751630400-1751630400@marketcrosspub.com
SUMMARY:4th of July at Market Cross Pub!
DESCRIPTION:Celebrate Independence Day at Market Cross!  \nThe pub will be open on Friday\, July 4th from 12-9pm with 20% off food for all active and retired military. Just make sure to bring your military ID plus we’ll have a Red\, White & Blue Menu and make sure to try one of our Berry Sparklers that includes a LED Ice Cube to take home. Berry Sparklers can be made alcoholic or virgin.\n.\n#july4th #4thofjuly #independenceday #fireworks #pubfam #publove #publife #beer #brews #eatlocal #drinklocal #carlislepa #downtowncarlisle
URL:https://marketcrosspub.com/event/4th-of-july-at-market-cross-pub/
LOCATION:113 N Hanover St\, Carlisle\, PA\, United States\, Pennsylvania 17013
ATTACH;FMTTYPE=image/jpeg:https://marketcrosspub.com/wp-content/uploads/2025/06/9497_image_512943392_1412122463607077_723367682064754422_n.jpg
END:VEVENT
BEGIN:VEVENT
DTSTART;TZID=America/New_York:20250703T180000
DTEND;TZID=America/New_York:20250703T200000
DTSTAMP:20260423T175955
CREATED:20250409T165017Z
LAST-MODIFIED:20250703T180658Z
UID:7878-1751565600-1751572800@marketcrosspub.com
SUMMARY:Magical Thursdays with Kyle Purnell
DESCRIPTION:Your Thursdays just got magical!! \nJoin us at the pub for some great food\, drinks and Magician Kyle Purnell will be roaming from table to table wowing you with some extraordinary table magic from 6-8pm – every Thursday! \nBring your family! Bring your friends!
URL:https://marketcrosspub.com/event/magical-thursdays-with-kyle-purnell-26/
LOCATION:113 N Hanover St\, Carlisle\, PA\, United States\, Pennsylvania 17013
ATTACH;FMTTYPE=image/jpeg:https://marketcrosspub.com/wp-content/uploads/2025/04/7852_image_505081942_1393781208774536_1334618328657037744_n-46.jpg
END:VEVENT
BEGIN:VEVENT
DTSTART;TZID=America/New_York:20250630T180000
DTEND;TZID=America/New_York:20250630T200000
DTSTAMP:20260423T175955
CREATED:20250409T164922Z
LAST-MODIFIED:20250630T174538Z
UID:7840-1751306400-1751313600@marketcrosspub.com
SUMMARY:Pub Trivia with Joe!
DESCRIPTION:Join us every Monday at 6pm for Trivia with Joe! A wide variety of trivia\, picture rounds\, music and puzzling questions to entertain guests of all ages. First come first serve. Enjoy dinner and drinks while you play!
URL:https://marketcrosspub.com/event/pub-trivia-with-joe-27/
LOCATION:113 N Hanover St\, Carlisle\, PA\, United States\, Pennsylvania 17013
ATTACH;FMTTYPE=image/jpeg:https://marketcrosspub.com/wp-content/uploads/2025/04/7813_image_505400332_1393783098774347_8384181544680035475_n-41.jpg
END:VEVENT
BEGIN:VEVENT
DTSTART;TZID=America/New_York:20250626T180000
DTEND;TZID=America/New_York:20250626T200000
DTSTAMP:20260423T175955
CREATED:20250409T165018Z
LAST-MODIFIED:20250626T164344Z
UID:7879-1750960800-1750968000@marketcrosspub.com
SUMMARY:Magical Thursdays with Kyle Purnell
DESCRIPTION:Your Thursdays just got magical!! \nJoin us at the pub for some great food\, drinks and Magician Kyle Purnell will be roaming from table to table wowing you with some extraordinary table magic from 6-8pm – every Thursday! \nBring your family! Bring your friends!
URL:https://marketcrosspub.com/event/magical-thursdays-with-kyle-purnell-27/
LOCATION:113 N Hanover St\, Carlisle\, PA\, United States\, Pennsylvania 17013
ATTACH;FMTTYPE=image/jpeg:https://marketcrosspub.com/wp-content/uploads/2025/04/7852_image_505081942_1393781208774536_1334618328657037744_n-33.jpg
END:VEVENT
BEGIN:VEVENT
DTSTART;TZID=America/New_York:20250623T180000
DTEND;TZID=America/New_York:20250623T200000
DTSTAMP:20260423T175955
CREATED:20250409T164923Z
LAST-MODIFIED:20250623T164314Z
UID:7841-1750701600-1750708800@marketcrosspub.com
SUMMARY:Pub Trivia with Joe!
DESCRIPTION:Join us every Monday at 6pm for Trivia with Joe! A wide variety of trivia\, picture rounds\, music and puzzling questions to entertain guests of all ages. First come first serve. Enjoy dinner and drinks while you play!
URL:https://marketcrosspub.com/event/pub-trivia-with-joe-28/
LOCATION:113 N Hanover St\, Carlisle\, PA\, United States\, Pennsylvania 17013
ATTACH;FMTTYPE=image/jpeg:https://marketcrosspub.com/wp-content/uploads/2025/04/7813_image_505400332_1393783098774347_8384181544680035475_n-27.jpg
END:VEVENT
BEGIN:VEVENT
DTSTART;TZID=America/New_York:20250620T140000
DTEND;TZID=America/New_York:20250620T140000
DTSTAMP:20260423T175955
CREATED:20250409T164748Z
LAST-MODIFIED:20250620T164115Z
UID:7803-1750428000-1750428000@marketcrosspub.com
SUMMARY:Market Cross Pub's Annual Golf Outing
DESCRIPTION:SAVE THE DATE!  \nJoin us for Market Cross Pub’s Annual Golf Outing to benefit the  JoAnne Goss Nursing Memorial Scholarship on Friday\, June 20th at Mayapple Golf Links –  2pm Shotgun Start! \n*Link to register is coming soon*
URL:https://marketcrosspub.com/event/market-cross-pubs-annual-golf-outing/
LOCATION:Mayapple Golf Links\, 1 Mayapple Dr\, Carlisle\, PA\, 17015\, US
ATTACH;FMTTYPE=image/jpeg:https://marketcrosspub.com/wp-content/uploads/2025/04/7803_image_505424353_1393781352107855_247594269804052270_n.jpg
END:VEVENT
BEGIN:VEVENT
DTSTART;TZID=America/New_York:20250619T180000
DTEND;TZID=America/New_York:20250619T200000
DTSTAMP:20260423T175955
CREATED:20250409T165019Z
LAST-MODIFIED:20250619T164303Z
UID:7880-1750356000-1750363200@marketcrosspub.com
SUMMARY:Magical Thursdays with Kyle Purnell
DESCRIPTION:Your Thursdays just got magical!! \nJoin us at the pub for some great food\, drinks and Magician Kyle Purnell will be roaming from table to table wowing you with some extraordinary table magic from 6-8pm – every Thursday! \nBring your family! Bring your friends!
URL:https://marketcrosspub.com/event/magical-thursdays-with-kyle-purnell-28/
LOCATION:113 N Hanover St\, Carlisle\, PA\, United States\, Pennsylvania 17013
ATTACH;FMTTYPE=image/jpeg:https://marketcrosspub.com/wp-content/uploads/2025/04/7852_image_505081942_1393781208774536_1334618328657037744_n-19.jpg
END:VEVENT
BEGIN:VEVENT
DTSTART;TZID=America/New_York:20250616T180000
DTEND;TZID=America/New_York:20250616T200000
DTSTAMP:20260423T175955
CREATED:20250409T164925Z
LAST-MODIFIED:20250616T164216Z
UID:7842-1750096800-1750104000@marketcrosspub.com
SUMMARY:Pub Trivia with Joe!
DESCRIPTION:Join us every Monday at 6pm for Trivia with Joe! A wide variety of trivia\, picture rounds\, music and puzzling questions to entertain guests of all ages. First come first serve. Enjoy dinner and drinks while you play!
URL:https://marketcrosspub.com/event/pub-trivia-with-joe-29/
LOCATION:113 N Hanover St\, Carlisle\, PA\, United States\, Pennsylvania 17013
ATTACH;FMTTYPE=image/jpeg:https://marketcrosspub.com/wp-content/uploads/2025/04/7813_image_505400332_1393783098774347_8384181544680035475_n-13.jpg
END:VEVENT
BEGIN:VEVENT
DTSTART;TZID=America/New_York:20250615T110000
DTEND;TZID=America/New_York:20250615T160000
DTSTAMP:20260423T175955
CREATED:20250409T164751Z
LAST-MODIFIED:20250615T164223Z
UID:7805-1749985200-1750003200@marketcrosspub.com
SUMMARY:Father's Day BBQ Brunch
DESCRIPTION:Celebrate dad or the father figure in your life at the pub with our Father’s Day BBQ Brunch from 11am-4pm on Sunday\, June 15th!  \nOur special BBQ Brunch Menu will be released soon.
URL:https://marketcrosspub.com/event/fathers-day-bbq-brunch/
LOCATION:113 N Hanover St\, Carlisle\, PA\, United States\, Pennsylvania 17013
ATTACH;FMTTYPE=image/jpeg:https://marketcrosspub.com/wp-content/uploads/2025/04/7805_image_505237921_1393781012107889_2965181199322645512_n.jpg
END:VEVENT
BEGIN:VEVENT
DTSTART;TZID=America/New_York:20250612T180000
DTEND;TZID=America/New_York:20250612T200000
DTSTAMP:20260423T175955
CREATED:20250409T165021Z
LAST-MODIFIED:20250612T164333Z
UID:7881-1749751200-1749758400@marketcrosspub.com
SUMMARY:Magical Thursdays with Kyle Purnell
DESCRIPTION:Your Thursdays just got magical!! \nJoin us at the pub for some great food\, drinks and Magician Kyle Purnell will be roaming from table to table wowing you with some extraordinary table magic from 6-8pm – every Thursday! \nBring your family! Bring your friends!
URL:https://marketcrosspub.com/event/magical-thursdays-with-kyle-purnell-29/
LOCATION:113 N Hanover St\, Carlisle\, PA\, United States\, Pennsylvania 17013
ATTACH;FMTTYPE=image/jpeg:https://marketcrosspub.com/wp-content/uploads/2025/04/7852_image_505081942_1393781208774536_1334618328657037744_n-5.jpg
END:VEVENT
BEGIN:VEVENT
DTSTART;TZID=America/New_York:20250609T180000
DTEND;TZID=America/New_York:20250609T200000
DTSTAMP:20260423T175955
CREATED:20250409T164926Z
LAST-MODIFIED:20250609T164423Z
UID:7843-1749492000-1749499200@marketcrosspub.com
SUMMARY:Pub Trivia with Joe!
DESCRIPTION:Join us every Monday at 6pm for Trivia with Joe! A wide variety of trivia\, picture rounds\, music and puzzling questions to entertain guests of all ages. First come first serve. Enjoy dinner and drinks while you play!
URL:https://marketcrosspub.com/event/pub-trivia-with-joe-30/
LOCATION:113 N Hanover St\, Carlisle\, PA\, United States\, Pennsylvania 17013
ATTACH;FMTTYPE=image/jpeg:https://marketcrosspub.com/wp-content/uploads/2025/04/7813_image_505400332_1393783098774347_8384181544680035475_n.jpg
END:VEVENT
BEGIN:VEVENT
DTSTART;TZID=America/New_York:20250605T180000
DTEND;TZID=America/New_York:20250605T200000
DTSTAMP:20260423T175955
CREATED:20250409T165022Z
LAST-MODIFIED:20250605T164335Z
UID:7882-1749146400-1749153600@marketcrosspub.com
SUMMARY:Magical Thursdays with Kyle Purnell
DESCRIPTION:Your Thursdays just got magical!! \nJoin us at the pub for some great food\, drinks and Magician Kyle Purnell will be roaming from table to table wowing you with some extraordinary table magic from 6-8pm – every Thursday! \nBring your family! Bring your friends!
URL:https://marketcrosspub.com/event/magical-thursdays-with-kyle-purnell-30/
LOCATION:113 N Hanover St\, Carlisle\, PA\, United States\, Pennsylvania 17013
ATTACH;FMTTYPE=image/jpeg:https://marketcrosspub.com/wp-content/uploads/2025/04/7852_image_487972347_1330075675145090_7977850590930476513_n-111.jpg
END:VEVENT
BEGIN:VEVENT
DTSTART;TZID=America/New_York:20250604T190000
DTEND;TZID=America/New_York:20250604T210000
DTSTAMP:20260423T175955
CREATED:20250409T164820Z
LAST-MODIFIED:20250604T165038Z
UID:7807-1749063600-1749070800@marketcrosspub.com
SUMMARY:Back to the 80's Karaoke
DESCRIPTION:Totally tubular! Get ready to travel back to the raddest decade for an 80s Karaoke Night at Market Cross Pub on Wednesday\, June 4th\, 2025\, from 7-9PM! \nLike\, totally join us for two awesome hours where you can bust out your best vocals to all the gnarly hits of the 80s. From power ballads that’ll give you all the feels to those electric anthems that make you wanna jump (jump!)\, it’s gonna be totally bodacious! \nDress in your 80’s best and as if that wasn’t fly enough\, it’s also wing night! You’ll score $2 off an order of ten super bone-in wings. Talk about a way to fuel up for some serious air guitar and vocal shredding! \nSo\, grab your crew\, tease up that hair\, and get ready to rewind to a night of epic 80s tunes\, righteous wings\, and major good times at Market Cross Pub! Don’t be a couch potato – be there or be square! 🤘
URL:https://marketcrosspub.com/event/back-to-the-80s-karaoke/
LOCATION:113 N Hanover St\, Carlisle\, PA\, United States\, Pennsylvania 17013
ATTACH;FMTTYPE=image/jpeg:https://marketcrosspub.com/wp-content/uploads/2025/04/7807_image_488600490_1330116208474370_7552325551829082064_n.jpg
END:VEVENT
BEGIN:VEVENT
DTSTART;TZID=America/New_York:20250602T180000
DTEND;TZID=America/New_York:20250602T200000
DTSTAMP:20260423T175955
CREATED:20250409T164927Z
LAST-MODIFIED:20250602T164411Z
UID:7844-1748887200-1748894400@marketcrosspub.com
SUMMARY:Pub Trivia with Joe!
DESCRIPTION:Join us every Monday at 6pm for Trivia with Joe! A wide variety of trivia\, picture rounds\, music and puzzling questions to entertain guests of all ages. First come first serve. Enjoy dinner and drinks while you play!
URL:https://marketcrosspub.com/event/pub-trivia-with-joe-31/
LOCATION:113 N Hanover St\, Carlisle\, PA\, United States\, Pennsylvania 17013
ATTACH;FMTTYPE=image/jpeg:https://marketcrosspub.com/wp-content/uploads/2025/04/7813_image_489432423_1330091315143526_5207015618396537484_n-105.jpg
END:VEVENT
BEGIN:VEVENT
DTSTART;TZID=America/New_York:20250529T180000
DTEND;TZID=America/New_York:20250529T200000
DTSTAMP:20260423T175955
CREATED:20250409T165023Z
LAST-MODIFIED:20250529T164341Z
UID:7883-1748541600-1748548800@marketcrosspub.com
SUMMARY:Magical Thursdays with Kyle Purnell
DESCRIPTION:Your Thursdays just got magical!! \nJoin us at the pub for some great food\, drinks and Magician Kyle Purnell will be roaming from table to table wowing you with some extraordinary table magic from 6-8pm – every Thursday! \nBring your family! Bring your friends!
URL:https://marketcrosspub.com/event/magical-thursdays-with-kyle-purnell-31/
LOCATION:113 N Hanover St\, Carlisle\, PA\, United States\, Pennsylvania 17013
ATTACH;FMTTYPE=image/jpeg:https://marketcrosspub.com/wp-content/uploads/2025/04/7852_image_487972347_1330075675145090_7977850590930476513_n-97.jpg
END:VEVENT
BEGIN:VEVENT
DTSTART;TZID=America/New_York:20250529T170000
DTEND;TZID=America/New_York:20250529T170000
DTSTAMP:20260423T175955
CREATED:20250523T165330Z
LAST-MODIFIED:20250529T164133Z
UID:8905-1748538000-1748538000@marketcrosspub.com
SUMMARY:Dewey Beer Co. Keep the Pint Night!
DESCRIPTION:Don’t miss our Dewey Beer Company Keep The Pint Night on Thursday\, May 29th beginning at 5pm! Buy a pint of Dewey Beer and you get to KEEP THE GLASS while supplies last.  \nIt’s also Magical Thursdays! Enjoy a side of tableside magic with your food and drinks as Kyle Purnell roams around the pub blowing your mind with his magic.  \nIt all kicks off Thursday at 5pm at Market Cross Pub & Brewery!
URL:https://marketcrosspub.com/event/dewey-beer-co-keep-the-pint-night/
LOCATION:113 N Hanover St\, Carlisle\, PA\, United States\, Pennsylvania 17013
ATTACH;FMTTYPE=image/jpeg:https://marketcrosspub.com/wp-content/uploads/2025/05/8905_image_501210684_1380240086795315_4375927730328668925_n.jpg
END:VEVENT
BEGIN:VEVENT
DTSTART;TZID=America/New_York:20250526T180000
DTEND;TZID=America/New_York:20250526T200000
DTSTAMP:20260423T175955
CREATED:20250409T164928Z
LAST-MODIFIED:20250526T165005Z
UID:7845-1748282400-1748289600@marketcrosspub.com
SUMMARY:Pub Trivia with Joe!
DESCRIPTION:Join us every Monday at 6pm for Trivia with Joe! A wide variety of trivia\, picture rounds\, music and puzzling questions to entertain guests of all ages. First come first serve. Enjoy dinner and drinks while you play!
URL:https://marketcrosspub.com/event/pub-trivia-with-joe-32/
LOCATION:113 N Hanover St\, Carlisle\, PA\, United States\, Pennsylvania 17013
ATTACH;FMTTYPE=image/jpeg:https://marketcrosspub.com/wp-content/uploads/2025/04/7813_image_489432423_1330091315143526_5207015618396537484_n-91.jpg
END:VEVENT
BEGIN:VEVENT
DTSTART;TZID=America/New_York:20250522T180000
DTEND;TZID=America/New_York:20250522T200000
DTSTAMP:20260423T175955
CREATED:20250409T165025Z
LAST-MODIFIED:20250522T164328Z
UID:7884-1747936800-1747944000@marketcrosspub.com
SUMMARY:Magical Thursdays with Kyle Purnell
DESCRIPTION:Your Thursdays just got magical!! \nJoin us at the pub for some great food\, drinks and Magician Kyle Purnell will be roaming from table to table wowing you with some extraordinary table magic from 6-8pm – every Thursday! \nBring your family! Bring your friends!
URL:https://marketcrosspub.com/event/magical-thursdays-with-kyle-purnell-32/
LOCATION:113 N Hanover St\, Carlisle\, PA\, United States\, Pennsylvania 17013
ATTACH;FMTTYPE=image/jpeg:https://marketcrosspub.com/wp-content/uploads/2025/04/7852_image_487972347_1330075675145090_7977850590930476513_n-82.jpg
END:VEVENT
BEGIN:VEVENT
DTSTART;TZID=America/New_York:20250519T180000
DTEND;TZID=America/New_York:20250519T200000
DTSTAMP:20260423T175955
CREATED:20250409T164929Z
LAST-MODIFIED:20250519T164526Z
UID:7846-1747677600-1747684800@marketcrosspub.com
SUMMARY:Pub Trivia with Joe!
DESCRIPTION:Join us every Monday at 6pm for Trivia with Joe! A wide variety of trivia\, picture rounds\, music and puzzling questions to entertain guests of all ages. First come first serve. Enjoy dinner and drinks while you play!
URL:https://marketcrosspub.com/event/pub-trivia-with-joe-33/
LOCATION:113 N Hanover St\, Carlisle\, PA\, United States\, Pennsylvania 17013
ATTACH;FMTTYPE=image/jpeg:https://marketcrosspub.com/wp-content/uploads/2025/04/7813_image_489432423_1330091315143526_5207015618396537484_n-76.jpg
END:VEVENT
BEGIN:VEVENT
DTSTART;TZID=America/New_York:20250515T180000
DTEND;TZID=America/New_York:20250515T200000
DTSTAMP:20260423T175955
CREATED:20250409T165026Z
LAST-MODIFIED:20250515T165355Z
UID:7885-1747332000-1747339200@marketcrosspub.com
SUMMARY:Magical Thursdays with Kyle Purnell
DESCRIPTION:Your Thursdays just got magical!! \nJoin us at the pub for some great food\, drinks and Magician Kyle Purnell will be roaming from table to table wowing you with some extraordinary table magic from 6-8pm – every Thursday! \nBring your family! Bring your friends!
URL:https://marketcrosspub.com/event/magical-thursdays-with-kyle-purnell-33/
LOCATION:113 N Hanover St\, Carlisle\, PA\, United States\, Pennsylvania 17013
ATTACH;FMTTYPE=image/jpeg:https://marketcrosspub.com/wp-content/uploads/2025/04/7852_image_487972347_1330075675145090_7977850590930476513_n-68.jpg
END:VEVENT
BEGIN:VEVENT
DTSTART;TZID=America/New_York:20250515T170000
DTEND;TZID=America/New_York:20250515T170000
DTSTAMP:20260423T175955
CREATED:20250514T044112Z
LAST-MODIFIED:20250515T165235Z
UID:8789-1747328400-1747328400@marketcrosspub.com
SUMMARY:Keep The Pint Night featuring Toppling Goliath
DESCRIPTION:Our next Keep the Pint Night is coming up this Thursday\, May 15th featuring Toppling Goliath Brewing Co. beginning at 5pm! Get a Pint of Toppling Goliath and you get to KEEP THE GLASS while supplies last.  \nIt’s also Magical Thursday beginning at 6pm with Kyle Purnell! He’ll be strolling around the pub performing table magic while you enjoy your meal and drinks.
URL:https://marketcrosspub.com/event/keep-the-pint-night-featuring-toppling-goliath/
LOCATION:113 N Hanover St\, Carlisle\, PA\, United States\, Pennsylvania 17013
ATTACH;FMTTYPE=image/jpeg:https://marketcrosspub.com/wp-content/uploads/2025/05/8789_image_496926230_1364800985005892_2686287781785034498_n.jpg
END:VEVENT
BEGIN:VEVENT
DTSTART;TZID=America/New_York:20250512T180000
DTEND;TZID=America/New_York:20250512T200000
DTSTAMP:20260423T175955
CREATED:20250409T164931Z
LAST-MODIFIED:20250512T164301Z
UID:7847-1747072800-1747080000@marketcrosspub.com
SUMMARY:Pub Trivia with Joe!
DESCRIPTION:Join us every Monday at 6pm for Trivia with Joe! A wide variety of trivia\, picture rounds\, music and puzzling questions to entertain guests of all ages. First come first serve. Enjoy dinner and drinks while you play!
URL:https://marketcrosspub.com/event/pub-trivia-with-joe-34/
LOCATION:113 N Hanover St\, Carlisle\, PA\, United States\, Pennsylvania 17013
ATTACH;FMTTYPE=image/jpeg:https://marketcrosspub.com/wp-content/uploads/2025/04/7813_image_489432423_1330091315143526_5207015618396537484_n-62.jpg
END:VEVENT
BEGIN:VEVENT
DTSTART;TZID=America/New_York:20250511T120000
DTEND;TZID=America/New_York:20250511T200000
DTSTAMP:20260423T175955
CREATED:20250408T044652Z
LAST-MODIFIED:20250511T164240Z
UID:7795-1746964800-1746993600@marketcrosspub.com
SUMMARY:Mother's Day at the Pub
DESCRIPTION:Celebrate mom and join us for Mother’s Day at the Pub on Sunday\, May 11 from 12-8pm.  \nSpecial Mother’s Day Menu will be released soon.
URL:https://marketcrosspub.com/event/mothers-day-brunch/
LOCATION:113 N Hanover St\, Carlisle\, PA
ATTACH;FMTTYPE=image/jpeg:https://marketcrosspub.com/wp-content/uploads/2025/04/7795_image_486355377_1330051031814221_239287806233337484_n.jpg
END:VEVENT
BEGIN:VEVENT
DTSTART;TZID=America/New_York:20250508T180000
DTEND;TZID=America/New_York:20250508T200000
DTSTAMP:20260423T175955
CREATED:20250409T165027Z
LAST-MODIFIED:20250508T164650Z
UID:7886-1746727200-1746734400@marketcrosspub.com
SUMMARY:Magical Thursdays with Kyle Purnell
DESCRIPTION:Your Thursdays just got magical!! \nJoin us at the pub for some great food\, drinks and Magician Kyle Purnell will be roaming from table to table wowing you with some extraordinary table magic from 6-8pm – every Thursday! \nBring your family! Bring your friends!
URL:https://marketcrosspub.com/event/magical-thursdays-with-kyle-purnell-34/
LOCATION:113 N Hanover St\, Carlisle\, PA\, United States\, Pennsylvania 17013
ATTACH;FMTTYPE=image/jpeg:https://marketcrosspub.com/wp-content/uploads/2025/04/7852_image_487972347_1330075675145090_7977850590930476513_n-54.jpg
END:VEVENT
BEGIN:VEVENT
DTSTART;TZID=America/New_York:20250507T190000
DTEND;TZID=America/New_York:20250507T210000
DTSTAMP:20260423T175955
CREATED:20250409T164839Z
LAST-MODIFIED:20250507T164501Z
UID:7811-1746644400-1746651600@marketcrosspub.com
SUMMARY:Country Karaoke Night
DESCRIPTION:Don’t miss this special Country Karaoke Night of Singin’ Wingin’ Karaoke at Market Cross Pub & Brewery with DJ Bill Grace! \nGet those boots on because we are doing all country songs\, all evening. Round up your friends and family\, come to the pub\, grab some food and drinks and sing your heart out to Willie\, Dolly\, Reba and more. \nDon’t forget – every Wednesday is Wingin Wednesday – Get $2 OFF ten super bone in wings!
URL:https://marketcrosspub.com/event/country-karaoke-night/
LOCATION:113 N Hanover St\, Carlisle\, PA\, United States\, Pennsylvania 17013
ATTACH;FMTTYPE=image/jpeg:https://marketcrosspub.com/wp-content/uploads/2025/04/7811_image_486117783_1330110228474968_1923934794540441616_n.jpg
END:VEVENT
BEGIN:VEVENT
DTSTART;TZID=America/New_York:20250507T110000
DTEND;TZID=America/New_York:20250507T230000
DTSTAMP:20260423T175955
CREATED:20250429T044212Z
LAST-MODIFIED:20250507T164501Z
UID:8191-1746615600-1746658800@marketcrosspub.com
SUMMARY:You Dine & We Donate:  JoAnne Goss Nursing Scholarship
DESCRIPTION:Next week is National Nurses Week and we will be celebrating at the pub with a Dine & Donate!  \nJoin us on Wednesday\, May 7th for lunch or dinner in house and 10% of your total check will be donated to the JoAnne Goss Nursing Scholarship. We are extremely grateful for the compassionate care nurses give to this world. Cheers to our nurses! \nBe sure to come out that evening for Country Karaoke with DJ Bill Grace from 7-9pm!
URL:https://marketcrosspub.com/event/you-dine-we-donate-joanne-goss-nursing-scholarship/
LOCATION:113 N Hanover St\, Carlisle\, PA\, United States\, Pennsylvania 17013
ATTACH;FMTTYPE=image/jpeg:https://marketcrosspub.com/wp-content/uploads/2025/04/8191_image_494149071_1349861713166486_7432987498647312434_n.jpg
END:VEVENT
END:VCALENDAR