BEGIN:VCALENDAR
VERSION:2.0
PRODID:-//Market Cross Brewery - ECPv6.15.13//NONSGML v1.0//EN
CALSCALE:GREGORIAN
METHOD:PUBLISH
X-ORIGINAL-URL:https://marketcrosspub.com
X-WR-CALDESC:Events for Market Cross Brewery
REFRESH-INTERVAL;VALUE=DURATION:PT1H
X-Robots-Tag:noindex
X-PUBLISHED-TTL:PT1H
BEGIN:VTIMEZONE
TZID:America/New_York
BEGIN:DAYLIGHT
TZOFFSETFROM:-0500
TZOFFSETTO:-0400
TZNAME:EDT
DTSTART:20240310T070000
END:DAYLIGHT
BEGIN:STANDARD
TZOFFSETFROM:-0400
TZOFFSETTO:-0500
TZNAME:EST
DTSTART:20241103T060000
END:STANDARD
BEGIN:DAYLIGHT
TZOFFSETFROM:-0500
TZOFFSETTO:-0400
TZNAME:EDT
DTSTART:20250309T070000
END:DAYLIGHT
BEGIN:STANDARD
TZOFFSETFROM:-0400
TZOFFSETTO:-0500
TZNAME:EST
DTSTART:20251102T060000
END:STANDARD
BEGIN:DAYLIGHT
TZOFFSETFROM:-0500
TZOFFSETTO:-0400
TZNAME:EDT
DTSTART:20260308T070000
END:DAYLIGHT
BEGIN:STANDARD
TZOFFSETFROM:-0400
TZOFFSETTO:-0500
TZNAME:EST
DTSTART:20261101T060000
END:STANDARD
END:VTIMEZONE
BEGIN:VEVENT
DTSTART;TZID=America/New_York:20251023T170000
DTEND;TZID=America/New_York:20251023T170000
DTSTAMP:20260423T134620
CREATED:20251015T164814Z
LAST-MODIFIED:20251023T164146Z
UID:11706-1761238800-1761238800@marketcrosspub.com
SUMMARY:Oktoberfest Keep The Stein Night
DESCRIPTION:Don’t miss our Oktoberfest Keep The Stein Night featuring Weihenstephan Festbier! Steins available while supplies last.
URL:https://marketcrosspub.com/event/oktoberfest-keep-the-stein-night/
LOCATION:113 N Hanover St\, Carlisle\, PA\, United States\, Pennsylvania 17013
ATTACH;FMTTYPE=image/jpeg:https://marketcrosspub.com/wp-content/uploads/2025/10/11706_image_561981514_1526501345502521_2393589548756292956_n.jpg
END:VEVENT
BEGIN:VEVENT
DTSTART;TZID=America/New_York:20251020T180000
DTEND;TZID=America/New_York:20251020T200000
DTSTAMP:20260423T134620
CREATED:20250409T164901Z
LAST-MODIFIED:20251020T164252Z
UID:7824-1760983200-1760990400@marketcrosspub.com
SUMMARY:Pub Trivia with Joe!
DESCRIPTION:Join us every Monday at 6pm for Trivia with Joe! A wide variety of trivia\, picture rounds\, music and puzzling questions to entertain guests of all ages. First come first serve. Enjoy dinner and drinks while you play!
URL:https://marketcrosspub.com/event/pub-trivia-with-joe-11/
LOCATION:113 N Hanover St\, Carlisle\, PA\, United States\, Pennsylvania 17013
ATTACH;FMTTYPE=image/jpeg:https://marketcrosspub.com/wp-content/uploads/2025/04/7813_image_505400332_1393783098774347_8384181544680035475_n-183.jpg
END:VEVENT
BEGIN:VEVENT
DTSTART;TZID=America/New_York:20251016T180000
DTEND;TZID=America/New_York:20251016T200000
DTSTAMP:20260423T134620
CREATED:20250409T164955Z
LAST-MODIFIED:20251016T164242Z
UID:7863-1760637600-1760644800@marketcrosspub.com
SUMMARY:Magical Thursdays with Kyle Purnell
DESCRIPTION:Your Thursdays just got magical!! \nJoin us at the pub for some great food\, drinks and Magician Kyle Purnell will be roaming from table to table wowing you with some extraordinary table magic from 6-8pm – every Thursday! \nBring your family! Bring your friends!
URL:https://marketcrosspub.com/event/magical-thursdays-with-kyle-purnell-11/
LOCATION:113 N Hanover St\, Carlisle\, PA\, United States\, Pennsylvania 17013
ATTACH;FMTTYPE=image/jpeg:https://marketcrosspub.com/wp-content/uploads/2025/04/7852_image_505081942_1393781208774536_1334618328657037744_n-183.jpg
END:VEVENT
BEGIN:VEVENT
DTSTART;TZID=America/New_York:20251013T180000
DTEND;TZID=America/New_York:20251013T200000
DTSTAMP:20260423T134620
CREATED:20250409T164902Z
LAST-MODIFIED:20251013T164915Z
UID:7825-1760378400-1760385600@marketcrosspub.com
SUMMARY:Pub Trivia with Joe!
DESCRIPTION:Join us every Monday at 6pm for Trivia with Joe! A wide variety of trivia\, picture rounds\, music and puzzling questions to entertain guests of all ages. First come first serve. Enjoy dinner and drinks while you play!
URL:https://marketcrosspub.com/event/pub-trivia-with-joe-12/
LOCATION:113 N Hanover St\, Carlisle\, PA\, United States\, Pennsylvania 17013
ATTACH;FMTTYPE=image/jpeg:https://marketcrosspub.com/wp-content/uploads/2025/04/7813_image_505400332_1393783098774347_8384181544680035475_n-183.jpg
END:VEVENT
BEGIN:VEVENT
DTSTART;TZID=America/New_York:20251009T180000
DTEND;TZID=America/New_York:20251009T200000
DTSTAMP:20260423T134620
CREATED:20250409T164956Z
LAST-MODIFIED:20251009T164344Z
UID:7864-1760032800-1760040000@marketcrosspub.com
SUMMARY:Magical Thursdays with Kyle Purnell
DESCRIPTION:Your Thursdays just got magical!! \nJoin us at the pub for some great food\, drinks and Magician Kyle Purnell will be roaming from table to table wowing you with some extraordinary table magic from 6-8pm – every Thursday! \nBring your family! Bring your friends!
URL:https://marketcrosspub.com/event/magical-thursdays-with-kyle-purnell-12/
LOCATION:113 N Hanover St\, Carlisle\, PA\, United States\, Pennsylvania 17013
ATTACH;FMTTYPE=image/jpeg:https://marketcrosspub.com/wp-content/uploads/2025/04/7852_image_505081942_1393781208774536_1334618328657037744_n-183.jpg
END:VEVENT
BEGIN:VEVENT
DTSTART;TZID=America/New_York:20251008T190000
DTEND;TZID=America/New_York:20251008T190000
DTSTAMP:20260423T134620
CREATED:20250813T164311Z
LAST-MODIFIED:20251008T164038Z
UID:11331-1759950000-1759950000@marketcrosspub.com
SUMMARY:Ozzy Tribute Karaoke Night
DESCRIPTION:In October\, we will be paying tribute to the one and only – Ozzy Osborne with a special Ozzy Tribute Karaoke Night!  \nNothing but Ozzy and Black Sabbath all evening from 7-9pm.  \nIt’s also Wingin’ Wednesday – get $2 off ten super bone in wings.
URL:https://marketcrosspub.com/event/ozzy-tribute-karaoke-night/
LOCATION:113 N Hanover St\, Carlisle\, PA\, United States\, Pennsylvania 17013
ATTACH;FMTTYPE=image/jpeg:https://marketcrosspub.com/wp-content/uploads/2025/08/11331_image_531557430_1460898285396161_4486167620095588023_n.jpg
END:VEVENT
BEGIN:VEVENT
DTSTART;TZID=America/New_York:20251006T180000
DTEND;TZID=America/New_York:20251006T200000
DTSTAMP:20260423T134620
CREATED:20250409T164904Z
LAST-MODIFIED:20251006T164209Z
UID:7826-1759773600-1759780800@marketcrosspub.com
SUMMARY:Pub Trivia with Joe!
DESCRIPTION:Join us every Monday at 6pm for Trivia with Joe! A wide variety of trivia\, picture rounds\, music and puzzling questions to entertain guests of all ages. First come first serve. Enjoy dinner and drinks while you play!
URL:https://marketcrosspub.com/event/pub-trivia-with-joe-13/
LOCATION:113 N Hanover St\, Carlisle\, PA\, United States\, Pennsylvania 17013
ATTACH;FMTTYPE=image/jpeg:https://marketcrosspub.com/wp-content/uploads/2025/04/7813_image_505400332_1393783098774347_8384181544680035475_n-183.jpg
END:VEVENT
BEGIN:VEVENT
DTSTART;TZID=America/New_York:20251002T180000
DTEND;TZID=America/New_York:20251002T200000
DTSTAMP:20260423T134620
CREATED:20250409T164958Z
LAST-MODIFIED:20251002T164417Z
UID:7865-1759428000-1759435200@marketcrosspub.com
SUMMARY:Magical Thursdays with Kyle Purnell
DESCRIPTION:Your Thursdays just got magical!! \nJoin us at the pub for some great food\, drinks and Magician Kyle Purnell will be roaming from table to table wowing you with some extraordinary table magic from 6-8pm – every Thursday! \nBring your family! Bring your friends!
URL:https://marketcrosspub.com/event/magical-thursdays-with-kyle-purnell-13/
LOCATION:113 N Hanover St\, Carlisle\, PA\, United States\, Pennsylvania 17013
ATTACH;FMTTYPE=image/jpeg:https://marketcrosspub.com/wp-content/uploads/2025/04/7852_image_505081942_1393781208774536_1334618328657037744_n-183.jpg
END:VEVENT
BEGIN:VEVENT
DTSTART;TZID=America/New_York:20250929T180000
DTEND;TZID=America/New_York:20250929T200000
DTSTAMP:20260423T134620
CREATED:20250409T164905Z
LAST-MODIFIED:20250929T164116Z
UID:7827-1759168800-1759176000@marketcrosspub.com
SUMMARY:Pub Trivia with Joe!
DESCRIPTION:Join us every Monday at 6pm for Trivia with Joe! A wide variety of trivia\, picture rounds\, music and puzzling questions to entertain guests of all ages. First come first serve. Enjoy dinner and drinks while you play!
URL:https://marketcrosspub.com/event/pub-trivia-with-joe-14/
LOCATION:113 N Hanover St\, Carlisle\, PA\, United States\, Pennsylvania 17013
ATTACH;FMTTYPE=image/jpeg:https://marketcrosspub.com/wp-content/uploads/2025/04/7813_image_505400332_1393783098774347_8384181544680035475_n-183.jpg
END:VEVENT
BEGIN:VEVENT
DTSTART;TZID=America/New_York:20250925T180000
DTEND;TZID=America/New_York:20250925T200000
DTSTAMP:20260423T134620
CREATED:20250409T164959Z
LAST-MODIFIED:20250925T164604Z
UID:7866-1758823200-1758830400@marketcrosspub.com
SUMMARY:Magical Thursdays with Kyle Purnell
DESCRIPTION:Your Thursdays just got magical!! \nJoin us at the pub for some great food\, drinks and Magician Kyle Purnell will be roaming from table to table wowing you with some extraordinary table magic from 6-8pm – every Thursday! \nBring your family! Bring your friends!
URL:https://marketcrosspub.com/event/magical-thursdays-with-kyle-purnell-14/
LOCATION:113 N Hanover St\, Carlisle\, PA\, United States\, Pennsylvania 17013
ATTACH;FMTTYPE=image/jpeg:https://marketcrosspub.com/wp-content/uploads/2025/04/7852_image_505081942_1393781208774536_1334618328657037744_n-183.jpg
END:VEVENT
BEGIN:VEVENT
DTSTART;TZID=America/New_York:20250922T180000
DTEND;TZID=America/New_York:20250922T200000
DTSTAMP:20260423T134620
CREATED:20250409T164907Z
LAST-MODIFIED:20250922T164131Z
UID:7828-1758564000-1758571200@marketcrosspub.com
SUMMARY:Pub Trivia with Joe!
DESCRIPTION:Join us every Monday at 6pm for Trivia with Joe! A wide variety of trivia\, picture rounds\, music and puzzling questions to entertain guests of all ages. First come first serve. Enjoy dinner and drinks while you play!
URL:https://marketcrosspub.com/event/pub-trivia-with-joe-15/
LOCATION:113 N Hanover St\, Carlisle\, PA\, United States\, Pennsylvania 17013
ATTACH;FMTTYPE=image/jpeg:https://marketcrosspub.com/wp-content/uploads/2025/04/7813_image_505400332_1393783098774347_8384181544680035475_n-183.jpg
END:VEVENT
BEGIN:VEVENT
DTSTART;TZID=America/New_York:20250918T180000
DTEND;TZID=America/New_York:20250918T200000
DTSTAMP:20260423T134620
CREATED:20250409T165000Z
LAST-MODIFIED:20250918T164426Z
UID:7867-1758218400-1758225600@marketcrosspub.com
SUMMARY:Magical Thursdays with Kyle Purnell
DESCRIPTION:Your Thursdays just got magical!! \nJoin us at the pub for some great food\, drinks and Magician Kyle Purnell will be roaming from table to table wowing you with some extraordinary table magic from 6-8pm – every Thursday! \nBring your family! Bring your friends!
URL:https://marketcrosspub.com/event/magical-thursdays-with-kyle-purnell-15/
LOCATION:113 N Hanover St\, Carlisle\, PA\, United States\, Pennsylvania 17013
ATTACH;FMTTYPE=image/jpeg:https://marketcrosspub.com/wp-content/uploads/2025/04/7852_image_505081942_1393781208774536_1334618328657037744_n-183.jpg
END:VEVENT
BEGIN:VEVENT
DTSTART;TZID=America/New_York:20250915T180000
DTEND;TZID=America/New_York:20250915T200000
DTSTAMP:20260423T134620
CREATED:20250409T164908Z
LAST-MODIFIED:20250915T164145Z
UID:7829-1757959200-1757966400@marketcrosspub.com
SUMMARY:Pub Trivia with Joe!
DESCRIPTION:Join us every Monday at 6pm for Trivia with Joe! A wide variety of trivia\, picture rounds\, music and puzzling questions to entertain guests of all ages. First come first serve. Enjoy dinner and drinks while you play!
URL:https://marketcrosspub.com/event/pub-trivia-with-joe-16/
LOCATION:113 N Hanover St\, Carlisle\, PA\, United States\, Pennsylvania 17013
ATTACH;FMTTYPE=image/jpeg:https://marketcrosspub.com/wp-content/uploads/2025/04/7813_image_505400332_1393783098774347_8384181544680035475_n-183.jpg
END:VEVENT
BEGIN:VEVENT
DTSTART;TZID=America/New_York:20250911T180000
DTEND;TZID=America/New_York:20250911T200000
DTSTAMP:20260423T134620
CREATED:20250409T165002Z
LAST-MODIFIED:20250911T164159Z
UID:7868-1757613600-1757620800@marketcrosspub.com
SUMMARY:Magical Thursdays with Kyle Purnell
DESCRIPTION:Your Thursdays just got magical!! \nJoin us at the pub for some great food\, drinks and Magician Kyle Purnell will be roaming from table to table wowing you with some extraordinary table magic from 6-8pm – every Thursday! \nBring your family! Bring your friends!
URL:https://marketcrosspub.com/event/magical-thursdays-with-kyle-purnell-16/
LOCATION:113 N Hanover St\, Carlisle\, PA\, United States\, Pennsylvania 17013
ATTACH;FMTTYPE=image/jpeg:https://marketcrosspub.com/wp-content/uploads/2025/04/7852_image_505081942_1393781208774536_1334618328657037744_n-183.jpg
END:VEVENT
BEGIN:VEVENT
DTSTART;TZID=America/New_York:20250908T180000
DTEND;TZID=America/New_York:20250908T200000
DTSTAMP:20260423T134620
CREATED:20250409T164909Z
LAST-MODIFIED:20250908T164313Z
UID:7830-1757354400-1757361600@marketcrosspub.com
SUMMARY:Pub Trivia with Joe!
DESCRIPTION:Join us every Monday at 6pm for Trivia with Joe! A wide variety of trivia\, picture rounds\, music and puzzling questions to entertain guests of all ages. First come first serve. Enjoy dinner and drinks while you play!
URL:https://marketcrosspub.com/event/pub-trivia-with-joe-17/
LOCATION:113 N Hanover St\, Carlisle\, PA\, United States\, Pennsylvania 17013
ATTACH;FMTTYPE=image/jpeg:https://marketcrosspub.com/wp-content/uploads/2025/04/7813_image_505400332_1393783098774347_8384181544680035475_n-180.jpg
END:VEVENT
BEGIN:VEVENT
DTSTART;TZID=America/New_York:20250904T180000
DTEND;TZID=America/New_York:20250904T200000
DTSTAMP:20260423T134620
CREATED:20250409T165004Z
LAST-MODIFIED:20250904T165341Z
UID:7869-1757008800-1757016000@marketcrosspub.com
SUMMARY:Magical Thursdays with Kyle Purnell
DESCRIPTION:Your Thursdays just got magical!! \nJoin us at the pub for some great food\, drinks and Magician Kyle Purnell will be roaming from table to table wowing you with some extraordinary table magic from 6-8pm – every Thursday! \nBring your family! Bring your friends!
URL:https://marketcrosspub.com/event/magical-thursdays-with-kyle-purnell-17/
LOCATION:113 N Hanover St\, Carlisle\, PA\, United States\, Pennsylvania 17013
ATTACH;FMTTYPE=image/jpeg:https://marketcrosspub.com/wp-content/uploads/2025/04/7852_image_505081942_1393781208774536_1334618328657037744_n-172.jpg
END:VEVENT
BEGIN:VEVENT
DTSTART;TZID=America/New_York:20250903T190000
DTEND;TZID=America/New_York:20250903T190000
DTSTAMP:20260423T134620
CREATED:20250813T044141Z
LAST-MODIFIED:20250903T164808Z
UID:11321-1756926000-1756926000@marketcrosspub.com
SUMMARY:The Rat Pack Karaoke Night
DESCRIPTION:Don’t miss our Rat Pack Karaoke Night coming up on Wednesday\, September 3rd from 7-9pm featuring music from the 1950’s and 60’s!  \nThe Rat Pack primarily consisted of Frank Sinatra\, Dean Martin\, Sammy Davis Jr.\, Peter Lawford\, and Joey Bishop. They were known for their performances in Las Vegas\, on stage\, and in movies. While other performers like Shirley MacLaine and Angie Dickinson were associated with the group\, these five were the core members.  \nWe will also have drinks specials for this special Rat Pack Karaoke Night!
URL:https://marketcrosspub.com/event/the-rat-pack-karaoke-night/
LOCATION:113 N Hanover St\, Carlisle\, PA\, United States\, Pennsylvania 17013
ATTACH;FMTTYPE=image/jpeg:https://marketcrosspub.com/wp-content/uploads/2025/08/11321_image_532583573_1460024275483562_7432350516226612241_n.jpg
END:VEVENT
BEGIN:VEVENT
DTSTART;TZID=America/New_York:20250901T180000
DTEND;TZID=America/New_York:20250901T200000
DTSTAMP:20260423T134620
CREATED:20250409T164910Z
LAST-MODIFIED:20250901T164245Z
UID:7831-1756749600-1756756800@marketcrosspub.com
SUMMARY:Pub Trivia with Joe!
DESCRIPTION:Join us every Monday at 6pm for Trivia with Joe! A wide variety of trivia\, picture rounds\, music and puzzling questions to entertain guests of all ages. First come first serve. Enjoy dinner and drinks while you play!
URL:https://marketcrosspub.com/event/pub-trivia-with-joe-18/
LOCATION:113 N Hanover St\, Carlisle\, PA\, United States\, Pennsylvania 17013
ATTACH;FMTTYPE=image/jpeg:https://marketcrosspub.com/wp-content/uploads/2025/04/7813_image_505400332_1393783098774347_8384181544680035475_n-166.jpg
END:VEVENT
BEGIN:VEVENT
DTSTART;TZID=America/New_York:20250828T180000
DTEND;TZID=America/New_York:20250828T200000
DTSTAMP:20260423T134620
CREATED:20250409T165006Z
LAST-MODIFIED:20250828T164405Z
UID:7870-1756404000-1756411200@marketcrosspub.com
SUMMARY:Magical Thursdays with Kyle Purnell
DESCRIPTION:Your Thursdays just got magical!! \nJoin us at the pub for some great food\, drinks and Magician Kyle Purnell will be roaming from table to table wowing you with some extraordinary table magic from 6-8pm – every Thursday! \nBring your family! Bring your friends!
URL:https://marketcrosspub.com/event/magical-thursdays-with-kyle-purnell-18/
LOCATION:113 N Hanover St\, Carlisle\, PA\, United States\, Pennsylvania 17013
ATTACH;FMTTYPE=image/jpeg:https://marketcrosspub.com/wp-content/uploads/2025/04/7852_image_505081942_1393781208774536_1334618328657037744_n-158.jpg
END:VEVENT
BEGIN:VEVENT
DTSTART;TZID=America/New_York:20250828T170000
DTEND;TZID=America/New_York:20250828T170000
DTSTAMP:20260423T134620
CREATED:20250816T044151Z
LAST-MODIFIED:20250828T164244Z
UID:11360-1756400400-1756400400@marketcrosspub.com
SUMMARY:Keep The Pint Night: Kona Big Wave
DESCRIPTION:Kona Pint Night has been moved to Thursday\, August 28 at 5pm.  \nOur next Keep The Pint Night is coming up on Thursday\, August 21st at 5pm featuring Kona Big Wave! Get a pint of Kona Big Wave and you get to KEEP THE GLASS while supplies last.  \nThursdays at 6pm is also Magical Thursdays! We have Magician Kyle Purnell roaming around the pub blowing your mind with this table magic.
URL:https://marketcrosspub.com/event/keep-the-pint-night-kona-big-wave-2/
LOCATION:113 N Hanover St\, Carlisle\, PA\, United States\, Pennsylvania 17013
ATTACH;FMTTYPE=image/jpeg:https://marketcrosspub.com/wp-content/uploads/2025/08/11360_image_534598928_1463007081851948_8792754557413640529_n.jpg
END:VEVENT
BEGIN:VEVENT
DTSTART;TZID=America/New_York:20250825T180000
DTEND;TZID=America/New_York:20250825T200000
DTSTAMP:20260423T134620
CREATED:20250409T164912Z
LAST-MODIFIED:20250825T164258Z
UID:7832-1756144800-1756152000@marketcrosspub.com
SUMMARY:Pub Trivia with Joe!
DESCRIPTION:Join us every Monday at 6pm for Trivia with Joe! A wide variety of trivia\, picture rounds\, music and puzzling questions to entertain guests of all ages. First come first serve. Enjoy dinner and drinks while you play!
URL:https://marketcrosspub.com/event/pub-trivia-with-joe-19/
LOCATION:113 N Hanover St\, Carlisle\, PA\, United States\, Pennsylvania 17013
ATTACH;FMTTYPE=image/jpeg:https://marketcrosspub.com/wp-content/uploads/2025/04/7813_image_505400332_1393783098774347_8384181544680035475_n-152.jpg
END:VEVENT
BEGIN:VEVENT
DTSTART;TZID=America/New_York:20250821T180000
DTEND;TZID=America/New_York:20250821T200000
DTSTAMP:20260423T134620
CREATED:20250409T165007Z
LAST-MODIFIED:20250821T164327Z
UID:7871-1755799200-1755806400@marketcrosspub.com
SUMMARY:Magical Thursdays with Kyle Purnell
DESCRIPTION:Your Thursdays just got magical!! \nJoin us at the pub for some great food\, drinks and Magician Kyle Purnell will be roaming from table to table wowing you with some extraordinary table magic from 6-8pm – every Thursday! \nBring your family! Bring your friends!
URL:https://marketcrosspub.com/event/magical-thursdays-with-kyle-purnell-19/
LOCATION:113 N Hanover St\, Carlisle\, PA\, United States\, Pennsylvania 17013
ATTACH;FMTTYPE=image/jpeg:https://marketcrosspub.com/wp-content/uploads/2025/04/7852_image_505081942_1393781208774536_1334618328657037744_n-144.jpg
END:VEVENT
BEGIN:VEVENT
DTSTART;TZID=America/New_York:20250818T180000
DTEND;TZID=America/New_York:20250818T200000
DTSTAMP:20260423T134620
CREATED:20250409T164913Z
LAST-MODIFIED:20250818T164230Z
UID:7833-1755540000-1755547200@marketcrosspub.com
SUMMARY:Pub Trivia with Joe!
DESCRIPTION:Join us every Monday at 6pm for Trivia with Joe! A wide variety of trivia\, picture rounds\, music and puzzling questions to entertain guests of all ages. First come first serve. Enjoy dinner and drinks while you play!
URL:https://marketcrosspub.com/event/pub-trivia-with-joe-20/
LOCATION:113 N Hanover St\, Carlisle\, PA\, United States\, Pennsylvania 17013
ATTACH;FMTTYPE=image/jpeg:https://marketcrosspub.com/wp-content/uploads/2025/04/7813_image_505400332_1393783098774347_8384181544680035475_n-138.jpg
END:VEVENT
BEGIN:VEVENT
DTSTART;TZID=America/New_York:20250814T180000
DTEND;TZID=America/New_York:20250814T200000
DTSTAMP:20260423T134620
CREATED:20250409T165009Z
LAST-MODIFIED:20250814T164212Z
UID:7872-1755194400-1755201600@marketcrosspub.com
SUMMARY:Magical Thursdays with Kyle Purnell
DESCRIPTION:Your Thursdays just got magical!! \nJoin us at the pub for some great food\, drinks and Magician Kyle Purnell will be roaming from table to table wowing you with some extraordinary table magic from 6-8pm – every Thursday! \nBring your family! Bring your friends!
URL:https://marketcrosspub.com/event/magical-thursdays-with-kyle-purnell-20/
LOCATION:113 N Hanover St\, Carlisle\, PA\, United States\, Pennsylvania 17013
ATTACH;FMTTYPE=image/jpeg:https://marketcrosspub.com/wp-content/uploads/2025/04/7852_image_505081942_1393781208774536_1334618328657037744_n-130.jpg
END:VEVENT
BEGIN:VEVENT
DTSTART;TZID=America/New_York:20250811T180000
DTEND;TZID=America/New_York:20250811T200000
DTSTAMP:20260423T134620
CREATED:20250409T164914Z
LAST-MODIFIED:20250811T164344Z
UID:7834-1754935200-1754942400@marketcrosspub.com
SUMMARY:Pub Trivia with Joe!
DESCRIPTION:Join us every Monday at 6pm for Trivia with Joe! A wide variety of trivia\, picture rounds\, music and puzzling questions to entertain guests of all ages. First come first serve. Enjoy dinner and drinks while you play!
URL:https://marketcrosspub.com/event/pub-trivia-with-joe-21/
LOCATION:113 N Hanover St\, Carlisle\, PA\, United States\, Pennsylvania 17013
ATTACH;FMTTYPE=image/jpeg:https://marketcrosspub.com/wp-content/uploads/2025/04/7813_image_505400332_1393783098774347_8384181544680035475_n-124.jpg
END:VEVENT
BEGIN:VEVENT
DTSTART;TZID=America/New_York:20250807T180000
DTEND;TZID=America/New_York:20250807T200000
DTSTAMP:20260423T134620
CREATED:20250409T165010Z
LAST-MODIFIED:20250807T164506Z
UID:7873-1754589600-1754596800@marketcrosspub.com
SUMMARY:Magical Thursdays with Kyle Purnell
DESCRIPTION:Your Thursdays just got magical!! \nJoin us at the pub for some great food\, drinks and Magician Kyle Purnell will be roaming from table to table wowing you with some extraordinary table magic from 6-8pm – every Thursday! \nBring your family! Bring your friends!
URL:https://marketcrosspub.com/event/magical-thursdays-with-kyle-purnell-21/
LOCATION:113 N Hanover St\, Carlisle\, PA\, United States\, Pennsylvania 17013
ATTACH;FMTTYPE=image/jpeg:https://marketcrosspub.com/wp-content/uploads/2025/04/7852_image_505081942_1393781208774536_1334618328657037744_n-116.jpg
END:VEVENT
BEGIN:VEVENT
DTSTART;TZID=America/New_York:20250807T170000
DTEND;TZID=America/New_York:20250807T170000
DTSTAMP:20260423T134620
CREATED:20250730T164253Z
LAST-MODIFIED:20250807T164143Z
UID:11164-1754586000-1754586000@marketcrosspub.com
SUMMARY:New Trail Keep The Pint Night!
DESCRIPTION:Don’t miss our Keep The Pint Night is Thursday\, August 7th beginning at 5pm featuring New Trail Brewing! Come out to the pub and get a pint of New Trail and you get to KEEP THE GLASS while supplies last.
URL:https://marketcrosspub.com/event/new-trail-keep-the-pint-night/
LOCATION:113 N Hanover St\, Carlisle\, PA\, United States\, Pennsylvania 17013
ATTACH;FMTTYPE=image/jpeg:https://marketcrosspub.com/wp-content/uploads/2025/07/11164_image_524993555_1446291706856819_7429757270404341129_n.jpg
END:VEVENT
BEGIN:VEVENT
DTSTART;TZID=America/New_York:20250806T180000
DTEND;TZID=America/New_York:20250806T180000
DTSTAMP:20260423T134620
CREATED:20250717T044228Z
LAST-MODIFIED:20250806T164229Z
UID:11018-1754503200-1754503200@marketcrosspub.com
SUMMARY:Taylor Swift Karaoke Night!
DESCRIPTION:Shake It Off and Sing It Loud! Taylor Swift Karaoke Night is back with DJ Bill Grace! \nYou belong with me and your best besties for a night of belting out Taylor’s biggest hits! \n“Our Song” your way into the spotlight – no “Teardrops on My Guitar” necessary (but we won’t judge if they flow!). \nWhether you’re a “Love Story” veteran or a “You Belong With Me” newbie\, grab the mic and “Sparks Fly” with your rendition of “Shake It Off\,” “Blank Space\,” or “I Knew You Were Trouble.” \nWe’ll also have photo ops and friendship bracelet making! More details on that coming soon.  \nIt’s also Wingin’ Wednesday at the Pub! Enjoy $2 Off 10 bone-in wings and make sure to get them with ranch (it’s Taylor’s favorite)!  \nReservations accepted for parties of 12 or more.
URL:https://marketcrosspub.com/event/taylor-swift-karaoke-night-2/
LOCATION:113 N Hanover St\, Carlisle\, PA\, United States\, Pennsylvania 17013
ATTACH;FMTTYPE=image/jpeg:https://marketcrosspub.com/wp-content/uploads/2025/07/11018_image_518442141_1432921111527212_6935303660411595451_n.jpg
END:VEVENT
BEGIN:VEVENT
DTSTART;TZID=America/New_York:20250804T180000
DTEND;TZID=America/New_York:20250804T200000
DTSTAMP:20260423T134620
CREATED:20250409T164915Z
LAST-MODIFIED:20250804T164242Z
UID:7835-1754330400-1754337600@marketcrosspub.com
SUMMARY:Pub Trivia with Joe!
DESCRIPTION:Join us every Monday at 6pm for Trivia with Joe! A wide variety of trivia\, picture rounds\, music and puzzling questions to entertain guests of all ages. First come first serve. Enjoy dinner and drinks while you play!
URL:https://marketcrosspub.com/event/pub-trivia-with-joe-22/
LOCATION:113 N Hanover St\, Carlisle\, PA\, United States\, Pennsylvania 17013
ATTACH;FMTTYPE=image/jpeg:https://marketcrosspub.com/wp-content/uploads/2025/04/7813_image_505400332_1393783098774347_8384181544680035475_n-110.jpg
END:VEVENT
BEGIN:VEVENT
DTSTART;TZID=America/New_York:20250731T180000
DTEND;TZID=America/New_York:20250731T200000
DTSTAMP:20260423T134620
CREATED:20250409T165011Z
LAST-MODIFIED:20250731T164533Z
UID:7874-1753984800-1753992000@marketcrosspub.com
SUMMARY:Magical Thursdays with Kyle Purnell
DESCRIPTION:Your Thursdays just got magical!! \nJoin us at the pub for some great food\, drinks and Magician Kyle Purnell will be roaming from table to table wowing you with some extraordinary table magic from 6-8pm – every Thursday! \nBring your family! Bring your friends!
URL:https://marketcrosspub.com/event/magical-thursdays-with-kyle-purnell-22/
LOCATION:113 N Hanover St\, Carlisle\, PA\, United States\, Pennsylvania 17013
ATTACH;FMTTYPE=image/jpeg:https://marketcrosspub.com/wp-content/uploads/2025/04/7852_image_505081942_1393781208774536_1334618328657037744_n-102.jpg
END:VEVENT
END:VCALENDAR