BEGIN:VCALENDAR
VERSION:2.0
PRODID:-//Market Cross Brewery - ECPv6.15.13//NONSGML v1.0//EN
CALSCALE:GREGORIAN
METHOD:PUBLISH
X-ORIGINAL-URL:https://marketcrosspub.com
X-WR-CALDESC:Events for Market Cross Brewery
REFRESH-INTERVAL;VALUE=DURATION:PT1H
X-Robots-Tag:noindex
X-PUBLISHED-TTL:PT1H
BEGIN:VTIMEZONE
TZID:America/New_York
BEGIN:DAYLIGHT
TZOFFSETFROM:-0500
TZOFFSETTO:-0400
TZNAME:EDT
DTSTART:20230312T070000
END:DAYLIGHT
BEGIN:STANDARD
TZOFFSETFROM:-0400
TZOFFSETTO:-0500
TZNAME:EST
DTSTART:20231105T060000
END:STANDARD
BEGIN:DAYLIGHT
TZOFFSETFROM:-0500
TZOFFSETTO:-0400
TZNAME:EDT
DTSTART:20240310T070000
END:DAYLIGHT
BEGIN:STANDARD
TZOFFSETFROM:-0400
TZOFFSETTO:-0500
TZNAME:EST
DTSTART:20241103T060000
END:STANDARD
BEGIN:DAYLIGHT
TZOFFSETFROM:-0500
TZOFFSETTO:-0400
TZNAME:EDT
DTSTART:20250309T070000
END:DAYLIGHT
BEGIN:STANDARD
TZOFFSETFROM:-0400
TZOFFSETTO:-0500
TZNAME:EST
DTSTART:20251102T060000
END:STANDARD
BEGIN:DAYLIGHT
TZOFFSETFROM:-0500
TZOFFSETTO:-0400
TZNAME:EDT
DTSTART:20260308T070000
END:DAYLIGHT
BEGIN:STANDARD
TZOFFSETFROM:-0400
TZOFFSETTO:-0500
TZNAME:EST
DTSTART:20261101T060000
END:STANDARD
END:VTIMEZONE
BEGIN:VEVENT
DTSTART;TZID=America/New_York:20250417T180000
DTEND;TZID=America/New_York:20250417T200000
DTSTAMP:20260424T015441
CREATED:20250409T165031Z
LAST-MODIFIED:20250417T164353Z
UID:7889-1744912800-1744920000@marketcrosspub.com
SUMMARY:Magical Thursdays with Kyle Purnell
DESCRIPTION:Your Thursdays just got magical!! \nJoin us at the pub for some great food\, drinks and Magician Kyle Purnell will be roaming from table to table wowing you with some extraordinary table magic from 6-8pm – every Thursday! \nBring your family! Bring your friends!
URL:https://marketcrosspub.com/event/magical-thursdays-with-kyle-purnell-37/
LOCATION:113 N Hanover St\, Carlisle\, PA\, United States\, Pennsylvania 17013
ATTACH;FMTTYPE=image/jpeg:https://marketcrosspub.com/wp-content/uploads/2025/04/7852_image_487972347_1330075675145090_7977850590930476513_n-12.jpg
END:VEVENT
BEGIN:VEVENT
DTSTART;TZID=America/New_York:20250414T180000
DTEND;TZID=America/New_York:20250414T200000
DTSTAMP:20260424T015441
CREATED:20250409T164936Z
LAST-MODIFIED:20250414T164211Z
UID:7851-1744653600-1744660800@marketcrosspub.com
SUMMARY:Pub Trivia with Joe!
DESCRIPTION:Join us every Monday at 6pm for Trivia with Joe! A wide variety of trivia\, picture rounds\, music and puzzling questions to entertain guests of all ages. First come first serve. Enjoy dinner and drinks while you play!
URL:https://marketcrosspub.com/event/pub-trivia-with-joe-38/
LOCATION:113 N Hanover St\, Carlisle\, PA\, United States\, Pennsylvania 17013
ATTACH;FMTTYPE=image/jpeg:https://marketcrosspub.com/wp-content/uploads/2025/04/7813_image_489432423_1330091315143526_5207015618396537484_n-6.jpg
END:VEVENT
BEGIN:VEVENT
DTSTART;TZID=America/New_York:20250410T180000
DTEND;TZID=America/New_York:20250410T200000
DTSTAMP:20260424T015441
CREATED:20250409T165032Z
LAST-MODIFIED:20250410T164338Z
UID:7890-1744308000-1744315200@marketcrosspub.com
SUMMARY:Magical Thursdays with Kyle Purnell
DESCRIPTION:Your Thursdays just got magical!! \nJoin us at the pub for some great food\, drinks and Magician Kyle Purnell will be roaming from table to table wowing you with some extraordinary table magic from 6-8pm – every Thursday! \nBring your family! Bring your friends!
URL:https://marketcrosspub.com/event/magical-thursdays-with-kyle-purnell-38/
LOCATION:113 N Hanover St\, Carlisle\, PA\, United States\, Pennsylvania 17013
ATTACH;FMTTYPE=image/jpeg:https://marketcrosspub.com/wp-content/uploads/2025/04/7855_image_487972347_1330075675145090_7977850590930476513_n.jpg
END:VEVENT
BEGIN:VEVENT
DTSTART;TZID=America/New_York:20250409T180000
DTEND;TZID=America/New_York:20250409T180000
DTSTAMP:20260424T015441
CREATED:20250403T044044Z
LAST-MODIFIED:20250409T165034Z
UID:7779-1744221600-1744221600@marketcrosspub.com
SUMMARY:An Evening with Zach King at Market Cross Pub
DESCRIPTION:Our 31st Birthday Celebration continues with An Evening with Zach King at Market Cross Pub & Brewery on Wednesday\, April 9th beginning at 6pm!  \nCome out and enjoy a couple drinks\, food and music from one of our favorites! It’s also Wingin’ Wednesday at the pub – get $2 off ten super bone in wings!
URL:https://marketcrosspub.com/event/an-evening-with-zach-king-at-market-cross-pub/
LOCATION:113 N Hanover St\, Carlisle\, PA\, United States\, Pennsylvania 17013
ATTACH;FMTTYPE=image/jpeg:https://marketcrosspub.com/wp-content/uploads/2025/04/7779_image_488537993_1322777109208280_3763942822593382188_n.jpg
END:VEVENT
BEGIN:VEVENT
DTSTART;TZID=America/New_York:20250407T170000
DTEND;TZID=America/New_York:20250407T170000
DTSTAMP:20260424T015441
CREATED:20250407T044628Z
LAST-MODIFIED:20250407T164119Z
UID:7790-1744045200-1744045200@marketcrosspub.com
SUMMARY:Modelo Especial Keep The Glass Pint Night
DESCRIPTION:Come to the pub Monday night for the NCAA Basketball Championshio Game AND ANOTHER KEEP THE GLASS PINT NIGHT featuring Modelo Especial beginning at 5pm! We will also have glass and March basketball giveaways! #pintnight #ncaa #basketball
URL:https://marketcrosspub.com/event/modelo-especial-keep-the-glass-pint-night/
LOCATION:113 N Hanover St\, Carlisle\, PA
ATTACH;FMTTYPE=image/jpeg:https://marketcrosspub.com/wp-content/uploads/2025/04/7790_image_488818604_1327354202083904_4016298225610517807_n.jpg
END:VEVENT
BEGIN:VEVENT
DTSTART;TZID=America/New_York:20250402T190000
DTEND;TZID=America/New_York:20250402T210000
DTSTAMP:20260424T015441
CREATED:20250307T044446Z
LAST-MODIFIED:20250402T164109Z
UID:7707-1743620400-1743627600@marketcrosspub.com
SUMMARY:90's Karaoke Night!
DESCRIPTION:We’re headed back to the ’90s! Celebrate 31 years of Market Cross Pub with 90’s Karaoke Night with DJ Bill Grace! Bring your friends\, dress in your best 90s outfit and then belt out your favorite 90’s hits!   \nIt’s also Wingin’ Wednesday – get $2 off super bone in wings! Dine in only.
URL:https://marketcrosspub.com/event/90s-karaoke-night/
LOCATION:113 N Hanover St\, Carlisle\, PA\, United States\, Pennsylvania 17013
ATTACH;FMTTYPE=image/jpeg:https://marketcrosspub.com/wp-content/uploads/2025/03/7707_image_481655850_1297457931740198_9213008490290832073_n.jpg
END:VEVENT
BEGIN:VEVENT
DTSTART;TZID=America/New_York:20250401T170000
DTEND;TZID=America/New_York:20250401T170000
DTSTAMP:20260424T015441
CREATED:20250311T164143Z
LAST-MODIFIED:20250401T164059Z
UID:7722-1743526800-1743526800@marketcrosspub.com
SUMMARY:Market Cross Pub's 31st Birthday Party!
DESCRIPTION:Join Market Cross Pub & Brewery on Tuesday\, April 1st for our 31st Birthday Party beginning at 5pm with a Toast and cake! \nWe will be having MCP 31st Birthday themed events throughout the month of April including 90’s Karaoke with DJ BIll Grace on Wednesday\, April 2nd from 7-9pm.
URL:https://marketcrosspub.com/event/market-cross-pubs-31st-birthday-party/
LOCATION:113 N Hanover St\, Carlisle\, PA\, United States\, Pennsylvania 17013
ATTACH;FMTTYPE=image/jpeg:https://marketcrosspub.com/wp-content/uploads/2025/03/7722_image_483871464_1301931634626161_8548113263540710060_n.jpg
END:VEVENT
BEGIN:VEVENT
DTSTART;TZID=America/New_York:20250327T170000
DTEND;TZID=America/New_York:20250327T170000
DTSTAMP:20260424T015441
CREATED:20250319T044045Z
LAST-MODIFIED:20250327T164559Z
UID:7741-1743094800-1743094800@marketcrosspub.com
SUMMARY:Fat Head's Jungle Juice Keep The Pint Night!
DESCRIPTION:It’s another KEEP THE PINT NIGHT at Market Cross Pub featuring Fat Head’s Brewery JUNGLE JUICE India Pale Ale!  \nCome on and get a pint of Jungle Juice and you’ll get to KEEP THE GLASS! While supplies last.
URL:https://marketcrosspub.com/event/fat-heads-jungle-juice-keep-the-pint-night/
LOCATION:113 N Hanover St\, Carlisle\, PA
ATTACH;FMTTYPE=image/jpeg:https://marketcrosspub.com/wp-content/uploads/2025/03/7741_image_484381797_1308544497298208_5787956536347587742_n.jpg
END:VEVENT
BEGIN:VEVENT
DTSTART;TZID=America/New_York:20250317T180000
DTEND;TZID=America/New_York:20250317T180000
DTSTAMP:20260424T015441
CREATED:20250310T164045Z
LAST-MODIFIED:20250317T164050Z
UID:7717-1742234400-1742234400@marketcrosspub.com
SUMMARY:St. Patrick's Day Pub Trivia!
DESCRIPTION:Join us for a special St. Patrick’s Day edition of Pub Trivia! Our resident leprechaun Joe has a St. Patrick/Irish trivia for St. Patrick’s Day!! As always the top three teams win prizes. Come out and celebrate St. Paddy’s Day at the pub!
URL:https://marketcrosspub.com/event/st-patricks-day-pub-trivia/
LOCATION:113 N Hanover St\, Carlisle\, PA\, United States\, Pennsylvania 17013
ATTACH;FMTTYPE=image/jpeg:https://marketcrosspub.com/wp-content/uploads/2025/03/7717_image_482271252_1301152328037425_8636863634491829471_n.jpg
END:VEVENT
BEGIN:VEVENT
DTSTART;TZID=America/New_York:20250314T110000
DTEND;TZID=America/New_York:20250317T230000
DTSTAMP:20260424T015441
CREATED:20250306T050033Z
LAST-MODIFIED:20250317T164053Z
UID:7702-1741950000-1742252400@marketcrosspub.com
SUMMARY:St. Patricks's Day Weekend!
DESCRIPTION:It’s our favorite holiday!!! Celebrate at your favorite pub! St. Patrick’s Day Weekend starts Friday\, March 14 at 11am and runs through Monday (St. Patrick’s Day) at 10pm! \nFeatured dishes will be announced soon!  \nLOTS IF IRISH BREWS & WHISKEY!\n#saynotogreenbeer #drinkgoodbeer \nNo reservations\, call ahead seating allowed for parties over 6
URL:https://marketcrosspub.com/event/st-patrickss-day-weekend/
LOCATION:113 N Hanover St\, Carlisle\, PA
ATTACH;FMTTYPE=image/jpeg:https://marketcrosspub.com/wp-content/uploads/2025/03/7702_image_481461321_1296430485176276_574241803327657018_n.jpg
END:VEVENT
BEGIN:VEVENT
DTSTART;TZID=America/New_York:20250305T190000
DTEND;TZID=America/New_York:20250305T210000
DTSTAMP:20260424T015441
CREATED:20250109T044257Z
LAST-MODIFIED:20250305T164517Z
UID:7491-1741201200-1741208400@marketcrosspub.com
SUMMARY:Singin' Wingin' Karaoke Night!
DESCRIPTION:Grab your friends and come out for our Singin’ Wingin’ Karaoke Night beginning at 7pm with DJ Bill Grace!! \nIt’s also Wingin’ Wednesday at the Pub – Get $2 OFF Ten Super Bone-In Wings!!
URL:https://marketcrosspub.com/event/singin-wingin-karaoke-night/
LOCATION:113 N Hanover St\, Carlisle\, PA\, United States\, Pennsylvania 17013
ATTACH;FMTTYPE=image/jpeg:https://marketcrosspub.com/wp-content/uploads/2025/01/7491_image_472882034_1248502436635748_7128669676336252350_n.jpg
END:VEVENT
BEGIN:VEVENT
DTSTART;TZID=America/New_York:20250219T190000
DTEND;TZID=America/New_York:20250219T210000
DTSTAMP:20260424T015441
CREATED:20250109T044304Z
LAST-MODIFIED:20250219T164543Z
UID:7493-1739991600-1739998800@marketcrosspub.com
SUMMARY:Singin' Wingin' Karaoke Night!
DESCRIPTION:Grab your friends and come out for our Singin’ Wingin’ Karaoke Night beginning at 7pm with DJ Bill Grace!! \nIt’s also Wingin’ Wednesday at the Pub – Get $2 OFF Ten Super Bone-In Wings!!
URL:https://marketcrosspub.com/event/singin-wingin-karaoke-night-2/
LOCATION:113 N Hanover St\, Carlisle\, PA\, United States\, Pennsylvania 17013
ATTACH;FMTTYPE=image/jpeg:https://marketcrosspub.com/wp-content/uploads/2025/01/7493_image_472882034_1248502436635748_7128669676336252350_n.jpg
END:VEVENT
BEGIN:VEVENT
DTSTART;TZID=America/New_York:20250209T180000
DTEND;TZID=America/New_York:20250209T180000
DTSTAMP:20260424T015441
CREATED:20250131T044109Z
LAST-MODIFIED:20250209T164152Z
UID:7631-1739124000-1739124000@marketcrosspub.com
SUMMARY:Big Game Party!
DESCRIPTION:Super Bowl Party\nJoin us to watch the big game!\nFootball bingo and trivia throughout the game.  \nWing Special!!!\n20 wings $20 – in house only\n$4 Market Cross Brews during the game  \nNo ticket needed\nWalk-ins welcome
URL:https://marketcrosspub.com/event/big-game-party/
LOCATION:113 N Hanover St\, Carlisle\, PA\, United States\, Pennsylvania 17013
ATTACH;FMTTYPE=image/jpeg:https://marketcrosspub.com/wp-content/uploads/2025/01/7631_image_475441276_1266546708164654_3177636529216427657_n.jpg
END:VEVENT
BEGIN:VEVENT
DTSTART;TZID=America/New_York:20250125T200000
DTEND;TZID=America/New_York:20250125T200000
DTSTAMP:20260424T015441
CREATED:20250118T045040Z
LAST-MODIFIED:20250125T175853Z
UID:7531-1737835200-1737835200@marketcrosspub.com
SUMMARY:Dustin Pague BNFC Knucklemania 5 Watch Party
DESCRIPTION:Market Cross Pub & Brewery is proud to sponsor Dustin “The Disciple” Pague in his upcoming fight at BKFC Knucklemania 5 happening on Saturday\, January 25th at Wells Fargo Center in Philadelphia!  \nIf you can’t make it to Philly\, we will be airing the fight live at the pub. Come out to cheer on Dustin and we will be having a Rock’em Sock’em Robots Tournament during the Watch Party with the winner of the tournament receiving an Official Dustin Pague Walk Out Shirt and a MCP Gift card.  \nKeep following Market Cross Pub on social media for more details on BKFC Knucklemania 5!
URL:https://marketcrosspub.com/event/dustin-pague-bnfc-knucklemania-5-watch-party/
LOCATION:113 N Hanover St\, Carlisle\, PA\, United States\, Pennsylvania 17013
ATTACH;FMTTYPE=image/jpeg:https://marketcrosspub.com/wp-content/uploads/2025/01/7531_image_473807054_1255657332586925_5432107619146888920_n-71-scaled.jpg
END:VEVENT
BEGIN:VEVENT
DTSTART;TZID=America/New_York:20250123T180000
DTEND;TZID=America/New_York:20250123T200000
DTSTAMP:20260424T015441
CREATED:20250109T044307Z
LAST-MODIFIED:20250123T173617Z
UID:7495-1737655200-1737662400@marketcrosspub.com
SUMMARY:Magical Thursdays
DESCRIPTION:Join us at the pub for some great food\, drinks and Magician Kyle Purnell will be roaming from table to table wowing you with some extraordinary table magic from 6-8pm – every Thursday!\nBring your family! Bring your friends and be amazed!
URL:https://marketcrosspub.com/event/magical-thursdays/
LOCATION:113 N Hanover St\, Carlisle\, PA\, United States\, Pennsylvania 17013
ATTACH;FMTTYPE=image/jpeg:https://marketcrosspub.com/wp-content/uploads/2025/01/7495_image_472882818_1248506863301972_6644947173804138561_n.jpg
END:VEVENT
BEGIN:VEVENT
DTSTART;TZID=America/New_York:20250123T170000
DTEND;TZID=America/New_York:20250123T170000
DTSTAMP:20260424T015441
CREATED:20250117T044433Z
LAST-MODIFIED:20250123T173617Z
UID:7526-1737651600-1737651600@marketcrosspub.com
SUMMARY:Animated Brewing Co. Pint Night
DESCRIPTION:It’s another Keep the Pint Night at Market Cross Pub & Brewery! Stop in for a pint from Animated Brewing Co. and you get to KEEP THE GLASS while supplies last.
URL:https://marketcrosspub.com/event/animated-brewing-co-pint-night/
LOCATION:113 N Hanover St\, Carlisle\, PA\, United States\, Pennsylvania 17013
ATTACH;FMTTYPE=image/jpeg:https://marketcrosspub.com/wp-content/uploads/2025/01/7526_image_473620423_1254842239335101_6995468916834607875_n.jpg
END:VEVENT
BEGIN:VEVENT
DTSTART;TZID=America/New_York:20250116T180000
DTEND;TZID=America/New_York:20250116T200000
DTSTAMP:20260424T015441
CREATED:20250109T044310Z
LAST-MODIFIED:20250116T164153Z
UID:7497-1737050400-1737057600@marketcrosspub.com
SUMMARY:Magical Thursdays
DESCRIPTION:Join us at the pub for some great food\, drinks and Magician Kyle Purnell will be roaming from table to table wowing you with some extraordinary table magic from 6-8pm – every Thursday!\nBring your family! Bring your friends and be amazed!
URL:https://marketcrosspub.com/event/magical-thursdays-2/
LOCATION:113 N Hanover St\, Carlisle\, PA\, United States\, Pennsylvania 17013
ATTACH;FMTTYPE=image/jpeg:https://marketcrosspub.com/wp-content/uploads/2025/01/7497_image_472882818_1248506863301972_6644947173804138561_n.jpg
END:VEVENT
BEGIN:VEVENT
DTSTART;TZID=America/New_York:20250115T190000
DTEND;TZID=America/New_York:20250115T210000
DTSTAMP:20260424T015441
CREATED:20250109T044306Z
LAST-MODIFIED:20250115T164445Z
UID:7494-1736967600-1736974800@marketcrosspub.com
SUMMARY:Singin' Wingin' Karaoke Night!
DESCRIPTION:Grab your friends and come out for our Singin’ Wingin’ Karaoke Night beginning at 7pm with DJ Bill Grace!! \nIt’s also Wingin’ Wednesday at the Pub – Get $2 OFF Ten Super Bone-In Wings!!
URL:https://marketcrosspub.com/event/singin-wingin-karaoke-night-3/
LOCATION:113 N Hanover St\, Carlisle\, PA\, United States\, Pennsylvania 17013
ATTACH;FMTTYPE=image/jpeg:https://marketcrosspub.com/wp-content/uploads/2025/01/7494_image_472882034_1248502436635748_7128669676336252350_n.jpg
END:VEVENT
BEGIN:VEVENT
DTSTART;TZID=America/New_York:20250109T180000
DTEND;TZID=America/New_York:20250109T200000
DTSTAMP:20260424T015441
CREATED:20250109T044311Z
LAST-MODIFIED:20250109T164357Z
UID:7498-1736445600-1736452800@marketcrosspub.com
SUMMARY:Magical Thursdays
DESCRIPTION:Join us at the pub for some great food\, drinks and Magician Kyle Purnell will be roaming from table to table wowing you with some extraordinary table magic from 6-8pm – every Thursday!\nBring your family! Bring your friends and be amazed!
URL:https://marketcrosspub.com/event/magical-thursdays-3/
LOCATION:113 N Hanover St\, Carlisle\, PA\, United States\, Pennsylvania 17013
ATTACH;FMTTYPE=image/jpeg:https://marketcrosspub.com/wp-content/uploads/2025/01/7497_image_472882818_1248506863301972_6644947173804138561_n.jpg
END:VEVENT
BEGIN:VEVENT
DTSTART;TZID=America/New_York:20250109T170000
DTEND;TZID=America/New_York:20250109T170000
DTSTAMP:20260424T015441
CREATED:20250107T044032Z
LAST-MODIFIED:20250109T164359Z
UID:7484-1736442000-1736442000@marketcrosspub.com
SUMMARY:Nugget Nectar Launch Party
DESCRIPTION:We are celebrating 21 Years of Nugget Nectar. Come to the Pub this Thursday for your first draft of the season and giveaways! Cheers!
URL:https://marketcrosspub.com/event/nugget-nectar-launch-party/
LOCATION:113 N Hanover St\, Carlisle\, PA\, United States\, Pennsylvania 17013
ATTACH;FMTTYPE=image/jpeg:https://marketcrosspub.com/wp-content/uploads/2025/01/7484_image_472749381_1247007743451884_1616086370877785680_n.jpg
END:VEVENT
BEGIN:VEVENT
DTSTART;TZID=America/New_York:20241226T180000
DTEND;TZID=America/New_York:20241226T200000
DTSTAMP:20260424T015441
CREATED:20240918T164111Z
LAST-MODIFIED:20241226T164228Z
UID:7135-1735236000-1735243200@marketcrosspub.com
SUMMARY:Magical Thursday with Magician Kyle Purnell
DESCRIPTION:Your Thursdays just got magical!!  \n Join us at the pub for some great food\, drinks and Magician Kyle Purnell will be roaming from table to table wowing you with some extraordinary table magic from 6-8pm – every Thursday!  \nBring your family! Bring your friends!
URL:https://marketcrosspub.com/event/magical-thursday-with-magician-kyle-purnell/
LOCATION:113 N Hanover St\, Carlisle\, PA\, United States\, Pennsylvania 17013
ATTACH;FMTTYPE=image/jpeg:https://marketcrosspub.com/wp-content/uploads/2024/09/7135_image_460329523_1153116056174387_340354638869001484_n.jpg
END:VEVENT
BEGIN:VEVENT
DTSTART;TZID=America/New_York:20241223T180000
DTEND;TZID=America/New_York:20241223T180000
DTSTAMP:20260424T015441
CREATED:20241218T044716Z
LAST-MODIFIED:20241223T164239Z
UID:7460-1734976800-1734976800@marketcrosspub.com
SUMMARY:Ugly Christmas Sweater Trivia Night!
DESCRIPTION:Ugly Christmas Sweater Trivia Night is back again this year!  \nThis will be the final trivia night until the new year so make sure to come out and be a part of it! \nWe will be taking photos of everyone who comes to Trivia with a ugly sweater on and then post them on the Market Cross Pub Facebook page for a vote\, the sweater with the most likes and reactions will win a $20 MCP Gift Card!
URL:https://marketcrosspub.com/event/ugly-christmas-sweater-trivia-night/
LOCATION:113 N Hanover St\, Carlisle\, PA\, United States\, Pennsylvania 17013
ATTACH;FMTTYPE=image/jpeg:https://marketcrosspub.com/wp-content/uploads/2024/12/7460_image_470206072_1230895215063137_4218003106507729961_n.jpg
END:VEVENT
BEGIN:VEVENT
DTSTART;TZID=America/New_York:20241222T110000
DTEND;TZID=America/New_York:20241222T110000
DTSTAMP:20260424T015441
CREATED:20241206T044632Z
LAST-MODIFIED:20241222T164125Z
UID:7418-1734865200-1734865200@marketcrosspub.com
SUMMARY:Grinch Brunch
DESCRIPTION:Guess who is coming to the pub?! Our annual Grinch Brunch with none other than The Grinch himself! The Grinch will be walking around to visit with our guests and pose for photos on Sunday\, December 22nd from 11am-2pm. This is a TICKETED EVENT so you must have a ticket to join in on the fun.  \nTickets are $5/ticket for a seat at a table. Groups will be seated together or as close as possible at tables for brunch. Tickets do not include food or beverage. Your table will be sat when all guests in your party have arrived. Proceeds from the ticket sales will be donated to Project SHARE of Carlisle PA. \nThere will be a Brunch Buffet including an omelette station (GF)\, carving station\, pancakes\, sausage\, fried potatoes\, fresh fruit and pastries. Brunch and beverages will be purchased at Market Cross during the event. \nAdult Brunch $20\nKids 12 and under $15\nKids 5 and under $10 \nGet your tickets today: https://www.ticketleap.events/tickets/market-cross-pub/grinch-brunch-589579103\n.\n#grinchbrunch
URL:https://marketcrosspub.com/event/grinch-brunch-3/
LOCATION:113 N Hanover St\, Carlisle\, PA
ATTACH;FMTTYPE=image/jpeg:https://marketcrosspub.com/wp-content/uploads/2024/12/7418_image_469424197_1220972232722102_1697062069627049929_n.jpg
END:VEVENT
BEGIN:VEVENT
DTSTART;TZID=America/New_York:20241221T120000
DTEND;TZID=America/New_York:20241221T120000
DTSTAMP:20260424T015441
CREATED:20241218T044731Z
LAST-MODIFIED:20241221T164507Z
UID:7462-1734782400-1734782400@marketcrosspub.com
SUMMARY:Keep The Glass Pint Game Day: New Trail State Light
DESCRIPTION:Come out to the pub and cheer on Penn State this Saturday beginning at noon as they take on the SMU Mustangs!  \nWe will have the game on the tv’s with sound!   \nThe pub will also be having a special Keep The Glass Pint Night during the game. Buy a pint of New Trail State Light and you’ll get to keep the glass. While supplies last.
URL:https://marketcrosspub.com/event/keep-the-glass-pint-game-day-new-trail-state-light/
LOCATION:113 N Hanover St\, Carlisle\, PA\, United States\, Pennsylvania 17013
ATTACH;FMTTYPE=image/jpeg:https://marketcrosspub.com/wp-content/uploads/2024/12/7462_image_470491245_1230928391726486_7780247093648439149_n.jpg
END:VEVENT
BEGIN:VEVENT
DTSTART;TZID=America/New_York:20241219T180000
DTEND;TZID=America/New_York:20241219T200000
DTSTAMP:20260424T015441
CREATED:20240918T164115Z
LAST-MODIFIED:20241219T164052Z
UID:7137-1734631200-1734638400@marketcrosspub.com
SUMMARY:Magical Thursday with Magician Kyle Purnell
DESCRIPTION:Your Thursdays just got magical!!  \n Join us at the pub for some great food\, drinks and Magician Kyle Purnell will be roaming from table to table wowing you with some extraordinary table magic from 6-8pm – every Thursday!  \nBring your family! Bring your friends!
URL:https://marketcrosspub.com/event/magical-thursday-with-magician-kyle-purnell-2/
LOCATION:113 N Hanover St\, Carlisle\, PA\, United States\, Pennsylvania 17013
ATTACH;FMTTYPE=image/jpeg:https://marketcrosspub.com/wp-content/uploads/2024/09/7137_image_460329523_1153116056174387_340354638869001484_n.jpg
END:VEVENT
BEGIN:VEVENT
DTSTART;TZID=America/New_York:20241219T170000
DTEND;TZID=America/New_York:20241219T170000
DTSTAMP:20260424T015441
CREATED:20241211T164237Z
LAST-MODIFIED:20241219T164048Z
UID:7432-1734627600-1734627600@marketcrosspub.com
SUMMARY:Keep the Pint Night: Troegs Mad Elf & Mad Elf Grand CRU
DESCRIPTION:It’s another Keep the Glass Pint Night at the pub! This week we are featuring Troegs Mad Elf and Mad Elf Grand CTU! Get a pint and you get to KEEP THE GLASS! While supplies last.
URL:https://marketcrosspub.com/event/keep-the-pint-night-troegs-mad-elf-mad-elf-grand-cru/
LOCATION:113 N Hanover St\, Carlisle\, PA\, United States\, Pennsylvania 17013
ATTACH;FMTTYPE=image/jpeg:https://marketcrosspub.com/wp-content/uploads/2024/12/7432_image_470149314_1225902182229107_1149861762737303696_n.jpg
END:VEVENT
BEGIN:VEVENT
DTSTART;TZID=America/New_York:20241212T180000
DTEND;TZID=America/New_York:20241212T200000
DTSTAMP:20260424T015441
CREATED:20240918T164118Z
LAST-MODIFIED:20241212T170118Z
UID:7138-1734026400-1734033600@marketcrosspub.com
SUMMARY:Magical Thursday with Magician Kyle Purnell
DESCRIPTION:Your Thursdays just got magical!!  \n Join us at the pub for some great food\, drinks and Magician Kyle Purnell will be roaming from table to table wowing you with some extraordinary table magic from 6-8pm – every Thursday!  \nBring your family! Bring your friends!
URL:https://marketcrosspub.com/event/magical-thursday-with-magician-kyle-purnell-3/
LOCATION:113 N Hanover St\, Carlisle\, PA\, United States\, Pennsylvania 17013
ATTACH;FMTTYPE=image/jpeg:https://marketcrosspub.com/wp-content/uploads/2024/09/7138_image_460329523_1153116056174387_340354638869001484_n.jpg
END:VEVENT
BEGIN:VEVENT
DTSTART;TZID=America/New_York:20241212T170000
DTEND;TZID=America/New_York:20241212T170000
DTSTAMP:20260424T015441
CREATED:20241211T164240Z
LAST-MODIFIED:20241212T165755Z
UID:7434-1734022800-1734022800@marketcrosspub.com
SUMMARY:Keep the Pint Night: Kona Big Wave
DESCRIPTION:It’s another Keep the Pint Night at Market Cross Pub! Come out Thursday at 5pm for a pint of Kona Big Wave and you get to KEEP THE GLASS! While supplies last.
URL:https://marketcrosspub.com/event/keep-the-pint-night-kona-big-wave/
LOCATION:113 N Hanover St\, Carlisle\, PA\, United States\, Pennsylvania 17013
ATTACH;FMTTYPE=image/jpeg:https://marketcrosspub.com/wp-content/uploads/2024/12/7434_image_470214542_1225893625563296_6776416265845599308_n-9.jpg
END:VEVENT
BEGIN:VEVENT
DTSTART;TZID=America/New_York:20241205T180000
DTEND;TZID=America/New_York:20241205T200000
DTSTAMP:20260424T015441
CREATED:20240918T164121Z
LAST-MODIFIED:20241205T164042Z
UID:7139-1733421600-1733428800@marketcrosspub.com
SUMMARY:Magical Thursday with Magician Kyle Purnell
DESCRIPTION:Your Thursdays just got magical!!  \n Join us at the pub for some great food\, drinks and Magician Kyle Purnell will be roaming from table to table wowing you with some extraordinary table magic from 6-8pm – every Thursday!  \nBring your family! Bring your friends!
URL:https://marketcrosspub.com/event/magical-thursday-with-magician-kyle-purnell-4/
LOCATION:113 N Hanover St\, Carlisle\, PA\, United States\, Pennsylvania 17013
ATTACH;FMTTYPE=image/jpeg:https://marketcrosspub.com/wp-content/uploads/2024/09/7139_image_460329523_1153116056174387_340354638869001484_n.jpg
END:VEVENT
BEGIN:VEVENT
DTSTART;TZID=America/New_York:20241205T170000
DTEND;TZID=America/New_York:20241205T170000
DTSTAMP:20260424T015441
CREATED:20241120T045043Z
LAST-MODIFIED:20241205T164041Z
UID:7377-1733418000-1733418000@marketcrosspub.com
SUMMARY:Aldus Brewing Co. Keep The Pint Night
DESCRIPTION:Don’t miss another Pint Night at the pub featuring Aldus Brewing Co. We will be featuring their…\n American Blonde Ale\nJason Hates It American IPA\nPretzel Wheat Ale \nGet a pint of one of their featured beers and you get to KEEP THE GLASS and just like every Thursday – we have the great Kyle Purnell performing table side magic from 6-8pm.
URL:https://marketcrosspub.com/event/aldus-brewing-co-keep-the-pint-night/
LOCATION:113 N Hanover St\, Carlisle\, PA\, United States\, Pennsylvania 17013
ATTACH;FMTTYPE=image/jpeg:https://marketcrosspub.com/wp-content/uploads/2024/11/7377_image_467618825_1207840277368631_6796937058049712245_n.jpg
END:VEVENT
END:VCALENDAR